BEGIN:VCALENDAR
VERSION:2.0
PRODID:-//Föreningen Norden i Stockholm - ECPv6.15.20//NONSGML v1.0//EN
CALSCALE:GREGORIAN
METHOD:PUBLISH
X-ORIGINAL-URL:https://nordenistockholm.se
X-WR-CALDESC:Events for Föreningen Norden i Stockholm
REFRESH-INTERVAL;VALUE=DURATION:PT1H
X-Robots-Tag:noindex
X-PUBLISHED-TTL:PT1H
BEGIN:VTIMEZONE
TZID:Europe/Stockholm
BEGIN:DAYLIGHT
TZOFFSETFROM:+0100
TZOFFSETTO:+0200
TZNAME:CEST
DTSTART:20240331T010000
END:DAYLIGHT
BEGIN:STANDARD
TZOFFSETFROM:+0200
TZOFFSETTO:+0100
TZNAME:CET
DTSTART:20241027T010000
END:STANDARD
BEGIN:DAYLIGHT
TZOFFSETFROM:+0100
TZOFFSETTO:+0200
TZNAME:CEST
DTSTART:20250330T010000
END:DAYLIGHT
BEGIN:STANDARD
TZOFFSETFROM:+0200
TZOFFSETTO:+0100
TZNAME:CET
DTSTART:20251026T010000
END:STANDARD
BEGIN:DAYLIGHT
TZOFFSETFROM:+0100
TZOFFSETTO:+0200
TZNAME:CEST
DTSTART:20260329T010000
END:DAYLIGHT
BEGIN:STANDARD
TZOFFSETFROM:+0200
TZOFFSETTO:+0100
TZNAME:CET
DTSTART:20261025T010000
END:STANDARD
END:VTIMEZONE
BEGIN:VEVENT
DTSTART;TZID=Europe/Stockholm:20250909T173000
DTEND;TZID=Europe/Stockholm:20250909T190000
DTSTAMP:20260422T213340
CREATED:20250826T130333Z
LAST-MODIFIED:20250901T145114Z
UID:820-1757439000-1757444400@nordenistockholm.se
SUMMARY:Besök i Finska kyrkan
DESCRIPTION:  \n\nFöreningen Norden i Stockholm besöker Finska kyrkan\nDet har alltid funnits finländare i Stockholm. Det var här man först började hålla finskspråkiga\ngudstjänster och använda finska som officiellt språk. Här trycktes också de allra första böckerna\npå finska. \nEn av de äldsta byggnaderna på Slottsbacken är Finska kyrkan – med en oväntad bakgrund\ninnan den blev en samlingsplats för den finska gemenskapen i staden. \nVälkommen att följa med på ett besök till Finska kyrkan i Gamla stan – en byggnad och\nförsamling med över 300 års historia\, belägen alldeles intill det Kungliga slottet. \n�� Tisdag 9 september kl. 17:30\n�� Slottsbacken 2C\, Gamla stan\n�� Finska församlingen i Stockholm Tukholman suomalainen seurakunta \nDiakoniassistent Maija Toivola från församlingen tar emot oss och berättar om kyrkans historia\noch verksamhet. Det här är ett fint tillfälle att ses efter sommaren! \n \n�� Anmäl dig nedan senast kl. 14:00 den 9 september! \nEvenemanget är kostnadsfritt. \n�� Ta gärna med en vän som är nyfiken på Föreningen Norden – vi vill bli fler!\n�� norden.se/bli-medlem  \nVarmt välkomna! Lämpimästi tervetuloa Tukholman suomalaiselle kirkolle! \n  \n  \nRegistrations are closed for this event
URL:https://nordenistockholm.se/event/besok-i-finska-kyrkan/
LOCATION:finska kyrkan i stockholm\, Slottsbacken 2 C\, Stockholm\, Sweden
ATTACH;FMTTYPE=image/jpeg:https://nordenistockholm.se/wp-content/uploads/2025/08/19o.1.jpg
ORGANIZER;CN="F%C3%B6reningen Norden i Stockholm":MAILTO:info@nordenistockholm.se
END:VEVENT
BEGIN:VEVENT
DTSTART;TZID=Europe/Stockholm:20250923T180000
DTEND;TZID=Europe/Stockholm:20250923T190000
DTSTAMP:20260422T213340
CREATED:20250826T133255Z
LAST-MODIFIED:20250923T085826Z
UID:833-1758650400-1758654000@nordenistockholm.se
SUMMARY:Dags för Norden! Ett digitalt författarsamtal med Håkan Larsson
DESCRIPTION:Välkommen till digitalt författarsamtal med Föreningen Norden i Stockholm!\n\nTisdag den 23 september öppnar Föreningen Norden i Stockholm hösten med ett digitalt Samtal med Håkan Larsson om hans bok Dags för Norden! Boken har också ett förord av mångårige journalisten Bengt Lindroth.\n<>\n\nHåkan Larsson är verksam som skribent och författare och har bland annat ett förflutet som ledarskribent och riksdagsledamot för Centerpartiet. Han har under decennier varit engagerad i frågor som rör nordiskt samarbete och är numera också ordförande för Föreningen Norden i Jämtland\, där han bor sedan många år.\n<>\n\n\n\n\n\n\n\n\n\n\n\n\nFörfattaren (t.h.) tillsammans med Bengt Lindroth som skrivit förordet till boken.\n\n\nBoken Dags för Norden! tar upp en lång historia av nära men ofta hårt prövade relationer mellan de nordiska länderna – där strävan efter samarbete inte sällan hindrats antingen av realpolitiska överväganden eller andra länders oro för vad ett samarbetande Norden skulle kunna bli. Det är också en appell sprungen ur ett långt engagemang\, i en tid där omvärldsläget fört Norden närmare än på mycket länge. Åtminstone i den säkerhetspolitiska kontexten. Men den innehåller också en studiehandledning. Varför? Ja\, denna och många andra frågor ska vi ställa Håkan under vårt digitala författarsamtal den 23 september klockan 18.00-19.00.\n\nModerator för samtalet är Johan Fälldin från styrelsen för Föreningen Norden i Stockholm.\n\n<>\n\nUppkoppling till mötet:\n\n\nFörfattarsamtal med Föreningen Norden i Stockholm\nTisdagen den 23 september • 18:00–19:00\n\n\n\nAnslut till mötet på https://teams.microsoft.com/l/meetup-join/19%3ameeting_NmMyYTZhMmItODhiMy00MjM2LTg2ZWQtOTRhNGU4OTMyM2Qx%40thread.v2/0?context=%7b%22Tid%22%3a%221887c60c-de5a-49f8-9a53-dd0380076d66%22%2c%22Oid%22%3a%22f3706551-7cbf-48a1-8532-3ad519987d6b%22%7d\n\n(Mötes-ID: 343 866 550 743 6 Lösenord: BW3kQ3PB)\n\n\n\n\n\n\n\n\n\n<>\nAnvänd gärna knappen “Add to Calendar” nedan för att lägga in Författarsamtalet och möteslänken direkt i din egen kalender!\n\n\n\n\n\n\n\n\n\n\n\n\n\n\n<>\n\nHjärtligt välkomna att lyssna och ställa frågor.\n\n<>\n\nVänliga hälsningar\n\n\n/Styrelsen
URL:https://nordenistockholm.se/event/dags-for-norden-ett-digitalt-forfattarsamtal-med-hakan-larsson/
ATTACH;FMTTYPE=image/jpeg:https://nordenistockholm.se/wp-content/uploads/2025/08/Dags-for-Norden-Boken.jpg
ORGANIZER;CN="F%C3%B6reningen Norden i Stockholm":MAILTO:info@nordenistockholm.se
END:VEVENT
END:VCALENDAR