BEGIN:VCALENDAR
VERSION:2.0
PRODID:-//Föreningen Norden i Stockholm - ECPv6.15.20//NONSGML v1.0//EN
CALSCALE:GREGORIAN
METHOD:PUBLISH
X-ORIGINAL-URL:https://nordenistockholm.se
X-WR-CALDESC:Events for Föreningen Norden i Stockholm
REFRESH-INTERVAL;VALUE=DURATION:PT1H
X-Robots-Tag:noindex
X-PUBLISHED-TTL:PT1H
BEGIN:VTIMEZONE
TZID:Europe/Stockholm
BEGIN:DAYLIGHT
TZOFFSETFROM:+0100
TZOFFSETTO:+0200
TZNAME:CEST
DTSTART:20230326T010000
END:DAYLIGHT
BEGIN:STANDARD
TZOFFSETFROM:+0200
TZOFFSETTO:+0100
TZNAME:CET
DTSTART:20231029T010000
END:STANDARD
BEGIN:DAYLIGHT
TZOFFSETFROM:+0100
TZOFFSETTO:+0200
TZNAME:CEST
DTSTART:20240331T010000
END:DAYLIGHT
BEGIN:STANDARD
TZOFFSETFROM:+0200
TZOFFSETTO:+0100
TZNAME:CET
DTSTART:20241027T010000
END:STANDARD
BEGIN:DAYLIGHT
TZOFFSETFROM:+0100
TZOFFSETTO:+0200
TZNAME:CEST
DTSTART:20250330T010000
END:DAYLIGHT
BEGIN:STANDARD
TZOFFSETFROM:+0200
TZOFFSETTO:+0100
TZNAME:CET
DTSTART:20251026T010000
END:STANDARD
END:VTIMEZONE
BEGIN:VEVENT
DTSTART;TZID=Europe/Stockholm:20240906T000000
DTEND;TZID=Europe/Stockholm:20240908T235959
DTSTAMP:20260425T182339
CREATED:20240731T142656Z
LAST-MODIFIED:20240808T103407Z
UID:722-1725580800-1725839999@nordenistockholm.se
SUMMARY:Huvudstadsdagar 2024 i Helsingfors
DESCRIPTION:HUVUDSTADSTRÄFF 2024 HELSINGFORS\nHelsinki Pohjolassa 100 vuotta – Helsingfors i Norden 100 år\nEfter fjolårets succé i Oslo så ser vi fram emot årets huvudstadsträff i Helsingfors i september\, med bl a Pohjola-Nordens 100-års Jubileumsfest på programmet. Föreningen Norden i Stockholm ser fram emot att få skicka en stark medlemsdelegation till Finland och subventionerar därför deltagaravgiften på 200 € per person för upp till 10 medlemmar på först-till-kvarnen-basis. Så skynda dig in med din anmälan ifall du är intresserad! (Registrering sker på formuläret nedan.) \nDeltagarna förväntas i gengäld bidra till en gemensam återrapportering samt spridning av intryck och slutsatser från mötet via sociala media etc. \nResan och hotellet bokas och betalas av deltagaren själv.  Norden-föreningen i Helsingfors har gjort ett avtal med ett rekommenderat hotell med rabatt (- Hotel Clarion där festen och vissa möten äger rum: Se nedan!) men man kan även boka något annat boende på egen hand om man föredrar det. \nKom med\, träffa andra nordister och lär känna Helsingfors! \n  \nPRELIMINÄRT PROGRAM\nFredag 6.9.2024\nHelsingfors universitet\n14–15 anmälningar och kaffe\n15–17.30 Jubileumsseminarium “Helsingfors i Norden – Norden i Helsingfors”\nDocent Ville Jalovaara: Bombningen av Helsingfors 1944\nRektor Sari Sola: Nordiska skolan i Helsingfors\nCome to Norden presenterar sig\nUtgivning av Pohjola-Norden i Helsingfors festskrift \n18–19 Helsingfors stads mottagning. Gamla rådhuset\, Empiresalen\, Alexandersgatan 20 \n  \nLördag 7.9.2024\nKulturutflykt med buss till Tusby träsk\nAvgång från Clarion kl. 9\, retur ca kl. 17\n10–16 Guidning runt Tusby träsk\nVi stannar i Ainola\, Halosenniemi\, kulturhuset i Tusby \nLunch Gustavelund \n19.00–22.00 Pohjola-Norden 100 år Jubileumsfest – Clarion Hotel Helsinki \nSöndag 8.9.2024 \nHelsingfors centrumbibliotek Ode (Oodi)\n9.00–10.30 Styrelsernas representanter möts på Clarion Hotel Helsinki.\nStyrelsen åker till Ode\n11.30–13.00 Seminarium: Säkerhet genom bildning och tillgång till information\nBjörn Wallén: “Fredsfostran genom nordisk folkbildning”. \n13–13.30 Lätt lunch \n  \n \nAnmälan och researrangemang \nAnmälan sker genom att fylla i nedanstående formulär och skicka in det senast 31 juli. Notera vänligen under “meddelanden” ifall det finns önskemål om specialkost eller likande! Antalet subventionerade representanter från Stockholmsföreningen är begränsat till 10 stycken – först till kvarn gäller! \nDeltagare bekostar själva sin resa och sitt upphälle. Det kommer att finnas möjlighet att boka hotellrum till specialpris på Hotel Clarion Helsinki\, där en del av evenemangen kommer att äga rum – se nedan! Föreningens medlemmar kan även söka resestöd på egen hand från den finländska Kulturfonden (- inte bara för den här resan utan även för andra aktiviteter med anknytning till Finland!) – se mer på:. \nhttps://kulturfonden.net/bidrag-i-sverige/ \n  \n\n\n\nHotellbokningar:\n\n\n\n\n\n\nHotellrum har reserverats på Clarion Hotel Helsinki på Busholmen\, adress Stilla Havsgatan 2. \nDeltagarna bokar och betalar sina rum.\n\n\n\n\n\n\nEnkelrum 138 € / rum / dag \nDubbelrum 158 € / rum / dag\n\n\n\nLänk för hotellbokning: \nBoka hotell \nDet går också boka via e-post: reservations.cl.helsinki@strawberry.fi eller via telefon +358 9 3417 4551 \n  \nFör mera information om programmet och arrangemangen i Helsingfors:\nKontakta Tiina Kujala tiina@tiinakujala.fi/ +358 40 576 2497 \n  \n  \nANMÄLNINGSFORMULÄR \n \n  \n \n 
URL:https://nordenistockholm.se/event/huvudstadsdagar-2024-i-helsingfors/
LOCATION:Helsinki\, Helsinki\, Finland
ATTACH;FMTTYPE=image/jpeg:https://nordenistockholm.se/wp-content/uploads/2023/10/B9AB950E-9804-4663-8A8A-7FAAD2FFDC85-rotated-e1721902894762.jpeg
END:VEVENT
END:VCALENDAR