BEGIN:VCALENDAR
VERSION:2.0
PRODID:-//Föreningen Norden i Stockholm - ECPv6.15.20//NONSGML v1.0//EN
CALSCALE:GREGORIAN
METHOD:PUBLISH
X-WR-CALNAME:Föreningen Norden i Stockholm
X-ORIGINAL-URL:https://nordenistockholm.se
X-WR-CALDESC:Events for Föreningen Norden i Stockholm
REFRESH-INTERVAL;VALUE=DURATION:PT1H
X-Robots-Tag:noindex
X-PUBLISHED-TTL:PT1H
BEGIN:VTIMEZONE
TZID:Europe/Stockholm
BEGIN:DAYLIGHT
TZOFFSETFROM:+0100
TZOFFSETTO:+0200
TZNAME:CEST
DTSTART:20220327T010000
END:DAYLIGHT
BEGIN:STANDARD
TZOFFSETFROM:+0200
TZOFFSETTO:+0100
TZNAME:CET
DTSTART:20221030T010000
END:STANDARD
BEGIN:DAYLIGHT
TZOFFSETFROM:+0100
TZOFFSETTO:+0200
TZNAME:CEST
DTSTART:20230326T010000
END:DAYLIGHT
BEGIN:STANDARD
TZOFFSETFROM:+0200
TZOFFSETTO:+0100
TZNAME:CET
DTSTART:20231029T010000
END:STANDARD
BEGIN:DAYLIGHT
TZOFFSETFROM:+0100
TZOFFSETTO:+0200
TZNAME:CEST
DTSTART:20240331T010000
END:DAYLIGHT
BEGIN:STANDARD
TZOFFSETFROM:+0200
TZOFFSETTO:+0100
TZNAME:CET
DTSTART:20241027T010000
END:STANDARD
END:VTIMEZONE
BEGIN:VEVENT
DTSTART;TZID=Europe/Stockholm:20231128T180000
DTEND;TZID=Europe/Stockholm:20231128T190000
DTSTAMP:20260425T132209
CREATED:20231029T085934Z
LAST-MODIFIED:20231031T173828Z
UID:550-1701194400-1701198000@nordenistockholm.se
SUMMARY:Nordisk Dialog: Møde Med Sveriges Delegationsordførende i Nordisk Råd
DESCRIPTION:Natos generalsekretær Jens Stoltenberg er gæstetaler ved Nordisk Råds session i Oslo. Han taler om emnet “Nato og Norden i en ny sikkerhedspolitisk virkelighed”. De centrale temaer på Nordisk Råds 75. session er Nordens nye rolle i Nato\, hvordan Norden fremskynder den grønne omstilling\, og unges deltagelse i demokratiet. \nVi har et behov for mere viden om Norden\, at have mere samkvem i Norden og mere samarbejde i Norden. Derfor inviterer Heléne Björklund\, der er Sveriges delegationsordfører i Nordisk Råd\, foreningens medlemmer til en samtale om resultaterne fra årets session\, de udfordringer Norden står overfor og hvad der er aktuelt på den nordiske agenda. \nEvenemanget är kostnadsfritt. \n  \nRiksdagshuset – ingång A (huvudentrén) \n  \n Heléne Björklund \när ordinarie riksdagsledamot (s) sedan 2018. Hon är ledamot i försvarsutskottet och Nordiska rådets svenska delegation sedan 2022 samt suppleant i socialutskottet \n  \nNordiska rådets årliga session \nDen 30 oktober–2 november hålls Nordiska rådets årliga session – årets största nordiska politiska forum där rådets 87 parlamentariker och nordiska statsministrar\, utrikesministrar\, försvarsministrar och så kallade samarbetsministrar från Norden möts till debatt och diskussion. Huvudtemat är ”Ett tryggt\, grönt och ungt Norden”. \n\n.
URL:https://nordenistockholm.se/event/nordisk-dialog-mode-med-sveriges-delegationsordforende-i-nordisk-rad/
LOCATION:Sveriges riksdag\, Riksgatan 3\, Stockholm\, Sweden
ATTACH;FMTTYPE=image/jpeg:https://nordenistockholm.se/wp-content/uploads/2023/10/nordiske-flag-norden-org-magnus-froderberg.jpeg
ORGANIZER;CN="F%C3%B6reningen Norden i Stockholm":MAILTO:info@nordenistockholm.se
END:VEVENT
BEGIN:VEVENT
DTSTART;TZID=Europe/Stockholm:20231113T160000
DTEND;TZID=Europe/Stockholm:20231113T173000
DTSTAMP:20260425T132209
CREATED:20231029T090553Z
LAST-MODIFIED:20231111T095546Z
UID:540-1699891200-1699896600@nordenistockholm.se
SUMMARY:Nordisk Dialog: Møde Med Danmarks Ambassadør i Sverige
DESCRIPTION:Hvad gør Danmark? \nDet vil vi gerne vide! Man skal ikke tage fejl af Foreningen Norden i Stockholms motiv til at besøge Danmarks ambassadør i Sverige. Det handler om at svenskerne er voldsomt interesserede i Danmark. Politikerne henter inspiration i danske løsninger\, det er et spørgsmål om tid før vi er sammen i Nato og sammen står vi over for internationale såvel som hjemlige udfordringer. \nI de nordiske lande er vi vant til at finde historier hvor vi spejler os selv i de øvrige nordiske lande. Hvordan gør vi i forhold til dem? Hvorfor gør vi det forskelligt? \nVi påvirker hinanden meget politisk og vores interesse for hinanden stiger markant\, når vi får nordiske perspektiver præsenteret. Derfor besøger vi nu Danmarks ambassadør i Sverige\, Kristina Miskowiak Beckvard\, til en samtale om dansk-svenske relationer\, hvad der er aktuelt i det danske samfund og den danske politik og jagten på en dansk plads i FN’s Sikkerhedsråd. \nFoto: News Øresund – Jenny Andersson\n  \n  \n  \nDanmarks nya ambassadör i Sverige\, Kristina Miskowiak Beckvard\, fotograferad i Andrakammarsalen i Sveriges Riksdag i samband med ett möte om nordiskt kultursamarbete. \n  \n\n 
URL:https://nordenistockholm.se/event/nordisk-dialog-mode-med-danmarks-ambassador-i-sverige/
LOCATION:Danmarks ambassad i Stockholm\, Jakobs torg 1\, Stockholm\, 11131\, Sweden
ATTACH;FMTTYPE=image/jpeg:https://nordenistockholm.se/wp-content/uploads/2023/10/Havfrue_-Photo-by-Marvin-Radke-on-Unsplash-003-scaled-e1698565306158.jpg
ORGANIZER;CN="F%C3%B6reningen Norden i Stockholm":MAILTO:info@nordenistockholm.se
END:VEVENT
BEGIN:VEVENT
DTSTART;TZID=Europe/Stockholm:20230901T000000
DTEND;TZID=Europe/Stockholm:20230903T235959
DTSTAMP:20260425T132209
CREATED:20230618T123937Z
LAST-MODIFIED:20230618T124124Z
UID:512-1693526400-1693785599@nordenistockholm.se
SUMMARY:Huvudstadsdagar i Oslo
DESCRIPTION:Välkommen till nordiskt huvudstadsmöte i Oslo i september! \nDet årliga gemensamma mötet för Norden-föreningarna i de nordiska huvudstäderna äger rum växelvis i de olika nordiska länderna. I år kommer mötet att hållas i Oslo 1-3 september. \nI det digra programmet ingår att lära känna Oslo\, nordiska diskussioner och fri samvaro. Vid sidan av en rad intressanta presentationer och föredrag arrangeras till exempel en guidad stadsrundtur i buss och en specialvisning av det nya Munch-museet – och mer därtill. Festmiddag och övriga måltider ingår också. \nVi ser gärna att ett antal medlemmar representerar Stockholmsföreningen i Oslo. Styrelsen har därför beslutat att föreningen subventionerar medlemmars deltagande i Huvudstadsmötet i Oslo genom att stå för deltagaravgiften (som annars är 1250 NOK)\, samt att erbjuda ersättning för resa till Oslo\, kost och logi för upp till 1500 SEK per deltagare.  \nDeltagarna förväntas i gengäld bidra till en gemensam återrapportering samt spridning av intryck och slutsatser från mötet via sociala media etc. \nResan och hotellet bokas och betalas av deltagaren själv. Oslos Norden-förening har gjort ett avtal med ett par rekommenderade hotell med rabatt men man kan även boka något annat boende på egen hand om man föredrar det. Se inbjudan för detaljer! \nRegistrering sker på formuläret nedan. \nKom med\, träffa andra nordister och lära känna Oslo! \nMen skynda: Sista anmälningsdag är 30 juni*\, platserna är begränsade och först till kvarn gäller! \nVänliga sommarhälsningar\, \nStyrelsen för Föreningen Norden i Stockholm \n\n\n*I inbjudan står 15 juni\, men 30 juni gäller!
URL:https://nordenistockholm.se/event/huvudstadsdagar-i-oslo-3/
LOCATION:Oslo\, Edvard Munchs Plass 2\, Oslo\, 0194\, Norway
END:VEVENT
BEGIN:VEVENT
DTSTART;TZID=Europe/Stockholm:20230513T130000
DTEND;TZID=Europe/Stockholm:20230513T180000
DTSTAMP:20260425T132209
CREATED:20230416T211646Z
LAST-MODIFIED:20230416T211646Z
UID:490-1683982800-1684000800@nordenistockholm.se
SUMMARY:Åkeshovs arboretum
DESCRIPTION:Lördag den 13 maj kl. 13.00\, Judarskogens naturreservat. Vi samlas inne i Åkeshovs Arboretum\npå Åkeshovs Gårdsväg 10 i Bromma\, endast 20 minuter från T-Centralen med tunnelbana (T-bana\nÅkeshov). \nKom och upplev våren i naturen med vårutflykt till Åkeshovs arboretum och Judarskogens\nnaturreservat. Årets Stockholmsbyggnad 2022 jury lyfter fram Åkeshovs arboretum som “ett\npedagogiskt grönt rum för utflykt och lärande har fått en efterlängtad upprustning och ökad\nbiodiversitet. En plats för naturen i staden och en plats till stadens invånare i naturen. Ett sinnrikt\noch lärande utbyte.” Vi ser fram emot en härlig vårdag i naturen med guidning\, familjefrågesport\nmed nordiskt tema och trevlig samvaro för alla generationer\, från de äldre till de yngre.\nProgrammet består av två delar. Först besöker vi och fikar på arboretum\, där du kan uppleva\nnordisk natur och landskapsarkitektur på ett intressant sätt. Sedan vandrar vi runt den\nnärliggande sjön Judarn tillsammans med vår guide Gunnel Wallén. Om du har möjlighet\, ta med\ndina barn\, barnbarn\, föräldrar eller vänner. \nFöranmälan: Meddela antalet vuxna och barn som kommer att delta senast den 2 maj via e-post\ntill info@nordenistockholm.se. Frågor kan riktas till Outi Tuomaala på samma adress. Ta med\negen fika eller mellis och sittunderlägg. \nArrangör: Föreningen Norden i Stockholm och Föreningen Natur och Samhälle i Norden med stöd\nfrån Studieförbundet Vuxenskolan.
URL:https://nordenistockholm.se/event/akeshovs-arboretum/
LOCATION:Åkeshov Arboretum\, Åkeshovs gårdsväg 10\, Bromma\, 168 38\, Sweden
ORGANIZER;CN="F%C3%B6reningen Norden i Stockholm":MAILTO:info@nordenistockholm.se
END:VEVENT
BEGIN:VEVENT
DTSTART;TZID=Europe/Stockholm:20230227T190000
DTEND;TZID=Europe/Stockholm:20230227T210000
DTSTAMP:20260425T132209
CREATED:20221218T205459Z
LAST-MODIFIED:20221218T205557Z
UID:436-1677524400-1677531600@nordenistockholm.se
SUMMARY:Så blev Island världens mest jämställda land
DESCRIPTION:Med Eliza Reid\, Erla Hulda Halldórsdóttir och Kristín Ástgeirsdóttir. \nMåndag 27 februari 2023\, klockan 19-21\nPlayhouse Teater\, Drottninggatan 71A\, 111 36 Stockholm. \nAnordnad av Stiftelsen Barbro och Sune Örtendahls fond.
URL:https://nordenistockholm.se/event/sa-blev-island-varldens-mest-jamstallda-land/
LOCATION:Playhouse Teater\, Drottninggatan 71A\, Stockholm\, 111 36\, Sweden
ORGANIZER;CN="F%C3%B6reningen Norden i Stockholm":MAILTO:info@nordenistockholm.se
END:VEVENT
END:VCALENDAR