BEGIN:VCALENDAR
VERSION:2.0
PRODID:-//Föreningen Norden i Stockholm - ECPv6.15.20//NONSGML v1.0//EN
CALSCALE:GREGORIAN
METHOD:PUBLISH
X-WR-CALNAME:Föreningen Norden i Stockholm
X-ORIGINAL-URL:https://nordenistockholm.se
X-WR-CALDESC:Events for Föreningen Norden i Stockholm
REFRESH-INTERVAL;VALUE=DURATION:PT1H
X-Robots-Tag:noindex
X-PUBLISHED-TTL:PT1H
BEGIN:VTIMEZONE
TZID:Europe/Stockholm
BEGIN:DAYLIGHT
TZOFFSETFROM:+0100
TZOFFSETTO:+0200
TZNAME:CEST
DTSTART:20220327T010000
END:DAYLIGHT
BEGIN:STANDARD
TZOFFSETFROM:+0200
TZOFFSETTO:+0100
TZNAME:CET
DTSTART:20221030T010000
END:STANDARD
BEGIN:DAYLIGHT
TZOFFSETFROM:+0100
TZOFFSETTO:+0200
TZNAME:CEST
DTSTART:20230326T010000
END:DAYLIGHT
BEGIN:STANDARD
TZOFFSETFROM:+0200
TZOFFSETTO:+0100
TZNAME:CET
DTSTART:20231029T010000
END:STANDARD
BEGIN:DAYLIGHT
TZOFFSETFROM:+0100
TZOFFSETTO:+0200
TZNAME:CEST
DTSTART:20240331T010000
END:DAYLIGHT
BEGIN:STANDARD
TZOFFSETFROM:+0200
TZOFFSETTO:+0100
TZNAME:CET
DTSTART:20241027T010000
END:STANDARD
END:VTIMEZONE
BEGIN:VEVENT
DTSTART;TZID=Europe/Stockholm:20230227T190000
DTEND;TZID=Europe/Stockholm:20230227T210000
DTSTAMP:20260425T135909
CREATED:20221218T205459Z
LAST-MODIFIED:20221218T205557Z
UID:436-1677524400-1677531600@nordenistockholm.se
SUMMARY:Så blev Island världens mest jämställda land
DESCRIPTION:Med Eliza Reid\, Erla Hulda Halldórsdóttir och Kristín Ástgeirsdóttir. \nMåndag 27 februari 2023\, klockan 19-21\nPlayhouse Teater\, Drottninggatan 71A\, 111 36 Stockholm. \nAnordnad av Stiftelsen Barbro och Sune Örtendahls fond.
URL:https://nordenistockholm.se/event/sa-blev-island-varldens-mest-jamstallda-land/
LOCATION:Playhouse Teater\, Drottninggatan 71A\, Stockholm\, 111 36\, Sweden
ORGANIZER;CN="F%C3%B6reningen Norden i Stockholm":MAILTO:info@nordenistockholm.se
END:VEVENT
END:VCALENDAR