BEGIN:VCALENDAR
VERSION:2.0
PRODID:-//Föreningen Norden i Stockholm - ECPv6.15.20//NONSGML v1.0//EN
CALSCALE:GREGORIAN
METHOD:PUBLISH
X-ORIGINAL-URL:https://nordenistockholm.se
X-WR-CALDESC:Events for Föreningen Norden i Stockholm
REFRESH-INTERVAL;VALUE=DURATION:PT1H
X-Robots-Tag:noindex
X-PUBLISHED-TTL:PT1H
BEGIN:VTIMEZONE
TZID:Europe/Stockholm
BEGIN:DAYLIGHT
TZOFFSETFROM:+0100
TZOFFSETTO:+0200
TZNAME:CEST
DTSTART:20250330T010000
END:DAYLIGHT
BEGIN:STANDARD
TZOFFSETFROM:+0200
TZOFFSETTO:+0100
TZNAME:CET
DTSTART:20251026T010000
END:STANDARD
BEGIN:DAYLIGHT
TZOFFSETFROM:+0100
TZOFFSETTO:+0200
TZNAME:CEST
DTSTART:20260329T010000
END:DAYLIGHT
BEGIN:STANDARD
TZOFFSETFROM:+0200
TZOFFSETTO:+0100
TZNAME:CET
DTSTART:20261025T010000
END:STANDARD
BEGIN:DAYLIGHT
TZOFFSETFROM:+0100
TZOFFSETTO:+0200
TZNAME:CEST
DTSTART:20270328T010000
END:DAYLIGHT
BEGIN:STANDARD
TZOFFSETFROM:+0200
TZOFFSETTO:+0100
TZNAME:CET
DTSTART:20271031T010000
END:STANDARD
END:VTIMEZONE
BEGIN:VEVENT
DTSTART;TZID=Europe/Stockholm:20260305T000000
DTEND;TZID=Europe/Stockholm:20260309T235959
DTSTAMP:20260423T002800
CREATED:20251001T173456Z
LAST-MODIFIED:20251104T145519Z
UID:856-1772668800-1773100799@nordenistockholm.se
SUMMARY:Huvudstadsdagar i Nuuk (Grönland) 2026
DESCRIPTION:Invitation til Hovedstadstræf 2026 i Nuuk\, Grønland \nFöreningen Norden i Stockholm har glädjen att kunna förmedla inbjudan till kommande Huvudstadsdagar på Grönland 2026! \n(Notera dock att inbjudan avser alla medlemmar i Föreningen Norden – inte bara dem i Stockholm!) \n  \nKære medlem\, \nDet er med stor glæde\, at vi kan invitere dig til Hovedstadstræf 2026\, som finder sted i\nNuuk\, Grønland\, hvor Foreningen Norden Grønland er stolte værter.\nDette er første gang\, at et hovedstadstræf afholdes i Grønland – og vi glæder os til at byde\nhele Norden velkommen til en uforglemmelig oplevelse i Nuuk. \nTema: ”Grønland under overfladen”\nÅrets program vil byde på inspirerende oplæg og debatter\, blandt andet om:\n– Afkoloniseringens betydning\n– Udviklingen af det grønlandske sprog og ligestilling\n– Samfundsudvikling i Grønland – og meget mere \nPraktisk information\n– Dato: 5.–9. marts 2026 (5. og 9. marts er rejsedage)\n– Sted: Nuuk\, Grønland\n– Egenbetaling: Deltagergebyr 1.000 DKK samt transport\, kost og logi\n– Målgruppe: Alle medlemmer af Foreningen Norden i Danmark\, Grønland\, Finland\, Sverige\,\nNorge\, Færøerne\, Åland og Island \nEtt utkast till program följer här: (Scrolla längre ner för att se mer om anmälan!) \nNUUK_Udkast til program _ årsmødet 2026-1\nNUUK_Udkast til program _ årsmødet 2026-2\n  \nAnmälan \nAnmälan är nu officiellt stängd. Ifall du fortfarande ändå är intresserad av att deltaga i det här evenemanget på Grönland ber vi dig att skicka en intresseanmälan till Föreningen Norden i Stockholm snarast till sekreterare@nordenistockholm.se . Vänligen skriv i meddelandet vilken lokalförening i Sverige som du representerar (- för Föreningen Norden i Stockholm\, skriv “FNiS”!) \n\n  \nVi glæder os til at se mange af jer i Nuuk i marts 2026 til nogle inspirerende og udbytterige\ndage. \nTakuss / vi ses! \n  \nExplore Nuuk\, Greenland – Complete Guide to Greenland’s Capital
URL:https://nordenistockholm.se/event/huvudstadsdagar-i-nuuk-gronland-2026/
ATTACH;FMTTYPE=image/avif:https://nordenistockholm.se/wp-content/uploads/2025/10/Nuuk-sunset-panorama-1-Gerth-Lyberth-Visit-Nuuk-1536x723-1.avif
END:VEVENT
END:VCALENDAR