BEGIN:VCALENDAR
VERSION:2.0
PRODID:-//Föreningen Norden i Stockholm - ECPv6.15.20//NONSGML v1.0//EN
CALSCALE:GREGORIAN
METHOD:PUBLISH
X-WR-CALNAME:Föreningen Norden i Stockholm
X-ORIGINAL-URL:https://nordenistockholm.se
X-WR-CALDESC:Events for Föreningen Norden i Stockholm
REFRESH-INTERVAL;VALUE=DURATION:PT1H
X-Robots-Tag:noindex
X-PUBLISHED-TTL:PT1H
BEGIN:VTIMEZONE
TZID:Europe/Stockholm
BEGIN:DAYLIGHT
TZOFFSETFROM:+0100
TZOFFSETTO:+0200
TZNAME:CEST
DTSTART:20250330T010000
END:DAYLIGHT
BEGIN:STANDARD
TZOFFSETFROM:+0200
TZOFFSETTO:+0100
TZNAME:CET
DTSTART:20251026T010000
END:STANDARD
BEGIN:DAYLIGHT
TZOFFSETFROM:+0100
TZOFFSETTO:+0200
TZNAME:CEST
DTSTART:20260329T010000
END:DAYLIGHT
BEGIN:STANDARD
TZOFFSETFROM:+0200
TZOFFSETTO:+0100
TZNAME:CET
DTSTART:20261025T010000
END:STANDARD
BEGIN:DAYLIGHT
TZOFFSETFROM:+0100
TZOFFSETTO:+0200
TZNAME:CEST
DTSTART:20270328T010000
END:DAYLIGHT
BEGIN:STANDARD
TZOFFSETFROM:+0200
TZOFFSETTO:+0100
TZNAME:CET
DTSTART:20271031T010000
END:STANDARD
END:VTIMEZONE
BEGIN:VEVENT
DTSTART;TZID=Europe/Stockholm:20260218T183000
DTEND;TZID=Europe/Stockholm:20260218T220000
DTSTAMP:20260422T213056
CREATED:20260127T085828Z
LAST-MODIFIED:20260215T130653Z
UID:933-1771439400-1771452000@nordenistockholm.se
SUMMARY:Årsmöte och Årsmötesseminarium om Norden och Estland
DESCRIPTION:Årsmöte & årsmötesevenemang 2026 \nNordens komplexa gränsmarker: Seminarium om Estland och Nordens gränser över Östersjön \n  \nVälkommen till Föreningen Norden i Stockholms årsmöte och efterföljande seminarium onsdagen den 18 februari 2026 i Estniska huset i Stockholm. \nEfter årsmötet bjuder vi in till ett öppet och publikt samtal om Estland\, Östersjön och Nordens komplexa gränsmarker – med framstående talare från diplomati\, politik\, akademi och civilsamhälle. \nEvenemanget hålls i Anders Ljunggrens anda\, med fokus på dialog\, folkbildning och nordiskt samarbete över gränser. \n  \nÅrsmötet är öppet för medlemmar i Föreningen Norden i Stockholm medan det efterföljande seminariet är publikt. Vi ser gärna nya personer som är intresserade av kvällens tema och av Föreningen Norden i Stockholm! \n  \n🕕 Årsmöte – OBS!> ny tid \n📅 18 februari 2026\n🕡 kl. 18.30–19.15\n📍 Estniska huset (Eesti maja)\, Wallingatan 34\, Stockholm \n📌 Kallelse och årsmöteshandlingar har redan skickats ut – detta är en vänlig påminnelse\, och notera den nya starttiden kl. 18.30. \n\n\n\nÅrsmötesevenemang (öppet arrangemang)\nkl. 19.30–21.30 (ca) \nNordens komplexa gränsmarker: Estland och gränserna över Östersjön\nKvällens årsmötesevenemang genomförs som ett seminarium inom ramen för föreningens projekt Nordens komplexa gränsmarker och belyser hur gränser i Norden och Östersjöregionen både skiljer och förenar – historiskt\, kulturellt och säkerhetspolitiskt. \nProgram i korthet\nInledning och minnesreflektion\nKvällen inleds med en kort reflektion till minne av föreningens nyligen bortgångne ordförande Anders Ljunggren och hans engagemang för Norden\, Östersjön och Estland – där han var Sveriges ambassadör 2013-2018. \nFördjupande perspektiv: säkerhet\, strategi och gränser\nJacob Westberg\, docent i krigsvetenskap och lektor vid Försvarshögskolan\, ger en analytisk fördjupning om Estland och Östersjöregionen i ett nordiskt och europeiskt säkerhetsperspektiv. \nGränslandet i praktiken – Setomaa\nSirle Sööt\, ordförande i Sverigeesternas Riksförbund\, delar personliga och politiska erfarenheter från Setomaa – ett av Estlands – och Nordens? – mest komplexa gränsland. \nDiplomatiska och politiska perspektiv\nMargus Laidre\, Estlands ambassadör i Sverige\, och\nCatarina Deremar\, riksdagsledamot och ledamot i Nordiska rådets svenska delegation\, reflekterar över Estland\, Norden och Östersjön som gräns- och samarbetsrum. \nPanelsamtal & publikdialog\nEtt gemensamt samtal med alla talare om Nordens gränsmarker\, Estlands roll och framtida nordiskt samarbete. \nModerator: Henrik G Forsström\, vice ordförande Föreningen Norden i Stockholm \n  \nMedverkande \n\nMargus Laidre\, Estlands ambassadör i Sverige\nJacob Westberg\, Försvarshögskolan\nSirle Sööt\, Sverigeesternas Riksförbund\nCatarina Deremar\, riksdagsledamot\, Nordiska rådet\n\n Efterföljande samvaro \nEfter programmet bjuder vi in till fortsatt samtal (- samt enklare förtäring – om det finns något kvar.. ) \nPraktisk information \n📍 Plats: Estniska huset (Eesti maja)\, Wallingatan 34\, Stockholm\n📅 Datum: 18 februari 2026\n🎟️ Årsmöte: för medlemmar\n🎟️ Årsmötesevenemang: öppet för allmänheten \n  \nKaffe/te och enklare förtäring kommer att finnas serverat från ca 18:00. \n  \nVarmt välkommen! \n  \nFöreningen Norden i Stockholm \n \n \n  \n  \n 
URL:https://nordenistockholm.se/event/arsmote-och-arsmotesevenemang/
LOCATION:Estniska huset\, Wallingatan 34\, Stockholm\, 11124\, Sweden
ATTACH;FMTTYPE=image/jpeg:https://nordenistockholm.se/wp-content/uploads/2026/01/Historiskt-Ostersjon.jpg
ORGANIZER;CN="F%C3%B6reningen Norden i Stockholm":MAILTO:info@nordenistockholm.se
END:VEVENT
END:VCALENDAR