BEGIN:VCALENDAR
VERSION:2.0
PRODID:-//Föreningen Norden i Stockholm - ECPv6.15.20//NONSGML v1.0//EN
CALSCALE:GREGORIAN
METHOD:PUBLISH
X-ORIGINAL-URL:https://nordenistockholm.se
X-WR-CALDESC:Events for Föreningen Norden i Stockholm
REFRESH-INTERVAL;VALUE=DURATION:PT1H
X-Robots-Tag:noindex
X-PUBLISHED-TTL:PT1H
BEGIN:VTIMEZONE
TZID:Europe/Stockholm
BEGIN:DAYLIGHT
TZOFFSETFROM:+0100
TZOFFSETTO:+0200
TZNAME:CEST
DTSTART:20240331T010000
END:DAYLIGHT
BEGIN:STANDARD
TZOFFSETFROM:+0200
TZOFFSETTO:+0100
TZNAME:CET
DTSTART:20241027T010000
END:STANDARD
BEGIN:DAYLIGHT
TZOFFSETFROM:+0100
TZOFFSETTO:+0200
TZNAME:CEST
DTSTART:20250330T010000
END:DAYLIGHT
BEGIN:STANDARD
TZOFFSETFROM:+0200
TZOFFSETTO:+0100
TZNAME:CET
DTSTART:20251026T010000
END:STANDARD
BEGIN:DAYLIGHT
TZOFFSETFROM:+0100
TZOFFSETTO:+0200
TZNAME:CEST
DTSTART:20260329T010000
END:DAYLIGHT
BEGIN:STANDARD
TZOFFSETFROM:+0200
TZOFFSETTO:+0100
TZNAME:CET
DTSTART:20261025T010000
END:STANDARD
END:VTIMEZONE
BEGIN:VEVENT
DTSTART;TZID=Europe/Stockholm:20251030T180000
DTEND;TZID=Europe/Stockholm:20251030T193000
DTSTAMP:20260423T015232
CREATED:20251021T141314Z
LAST-MODIFIED:20251021T141314Z
UID:890-1761847200-1761852600@nordenistockholm.se
SUMMARY:Föreläsning: Nordens kulturella gemenskap
DESCRIPTION:Föreningen Norden i Stockholm står  som medarrangör av en föreläsning på temat Nordens kulturella gemenskap torsdagen den 30 oktober. \nNordens hus i Reykjavik\nSabina Westerholm är sedan år 2019 direktör för Nordens Hus i Reykjavík. Hon ska ge oss djupare insikter i det nordiska kultursamarbetet\, dess visioner och strategier – samt om Nordens hus med dess historia. \nPlats:Tjärhovsgatan 6 (T Medborgarplatsen)\nTid: 30 oktober kl 18:00-19:30\nKostnad: 50:- \nFika: Ja\, smörgås och kaffe/te\nMer information och anmälan via länken. \nhttps://www.sv.se/kurser-och-evenemang/beteendevetenskap/arrangorskap/forelasning-nordens-kulturella-gemenskap-372637 \nArrangemanget genomförs av Föreningen Natur och Samhälle i Norden i samarbete med Dansk Förening i Stockholm och Studieförbundet Vuxenskolan Stockholm.
URL:https://nordenistockholm.se/event/forelasning-nordens-kulturella-gemenskap/
LOCATION:TJÄRHOVSGATAN 6\, Tjärhovsgatan 6\, Stockholm\, Sweden
ATTACH;FMTTYPE=image/jpeg:https://nordenistockholm.se/wp-content/uploads/2025/10/nordens-hus-reykjavik.jpeg
ORGANIZER;CN="F%C3%B6reningen Norden i Stockholm":MAILTO:info@nordenistockholm.se
END:VEVENT
END:VCALENDAR